BEGIN:VCALENDAR
VERSION:2.0
PRODID:-//ART CONTEMPORAIN Expos et événements - ECPv6.15.20//NONSGML v1.0//EN
CALSCALE:GREGORIAN
METHOD:PUBLISH
X-WR-CALNAME:ART CONTEMPORAIN Expos et événements
X-ORIGINAL-URL:https://agenda.erya.info
X-WR-CALDESC:Évènements pour ART CONTEMPORAIN Expos et événements
REFRESH-INTERVAL;VALUE=DURATION:PT1H
X-Robots-Tag:noindex
X-PUBLISHED-TTL:PT1H
BEGIN:VTIMEZONE
TZID:Europe/Paris
BEGIN:DAYLIGHT
TZOFFSETFROM:+0100
TZOFFSETTO:+0200
TZNAME:CEST
DTSTART:20240331T010000
END:DAYLIGHT
BEGIN:STANDARD
TZOFFSETFROM:+0200
TZOFFSETTO:+0100
TZNAME:CET
DTSTART:20241027T010000
END:STANDARD
BEGIN:DAYLIGHT
TZOFFSETFROM:+0100
TZOFFSETTO:+0200
TZNAME:CEST
DTSTART:20250330T010000
END:DAYLIGHT
BEGIN:STANDARD
TZOFFSETFROM:+0200
TZOFFSETTO:+0100
TZNAME:CET
DTSTART:20251026T010000
END:STANDARD
BEGIN:DAYLIGHT
TZOFFSETFROM:+0100
TZOFFSETTO:+0200
TZNAME:CEST
DTSTART:20260329T010000
END:DAYLIGHT
BEGIN:STANDARD
TZOFFSETFROM:+0200
TZOFFSETTO:+0100
TZNAME:CET
DTSTART:20261025T010000
END:STANDARD
END:VTIMEZONE
BEGIN:VEVENT
DTSTART;TZID=Europe/Paris:20251107T080000
DTEND;TZID=Europe/Paris:20251116T170000
DTSTAMP:20260422T125605
CREATED:20250612T134232Z
LAST-MODIFIED:20250612T134232Z
UID:4074-1762502400-1763312400@agenda.erya.info
SUMMARY:Agata PREYZNER au Château Conti
DESCRIPTION:
URL:https://agenda.erya.info/event/agata-preyzner-au-chateau-conti/
LOCATION:Château Conti\, Rue de Conti\, L'Isle-Adam\, 95290\, France
CATEGORIES:Exposition personnelle
ATTACH;FMTTYPE=image/jpeg:https://agenda.erya.info/wp-content/uploads/2025/06/3.SKYSCAPE-2020-encre-sur-papier-maroufle-sur-toile-monte-sur-chassis-55x46cm_ERYA.jpg
END:VEVENT
BEGIN:VEVENT
DTSTART;TZID=Europe/Paris:20251115T080000
DTEND;TZID=Europe/Paris:20251123T170000
DTSTAMP:20260422T125605
CREATED:20250612T151211Z
LAST-MODIFIED:20250612T151712Z
UID:4078-1763193600-1763917200@agenda.erya.info
SUMMARY:Agata PREYZNER au Salon de Montmagny
DESCRIPTION:
URL:https://agenda.erya.info/event/agata-preyzner-au-salon-de-montmagny/
LOCATION:Salle des Fêtes de Montmagny\, Place de la Division Leclerc\, Montmagny\, 95360\, France
CATEGORIES:Exposition collective
ATTACH;FMTTYPE=image/jpeg:https://agenda.erya.info/wp-content/uploads/2025/06/10.ECUME-2008-encre-sur-papier-maroufle-sur-toile-monte-sur-chassis-80x80cm_ERYA.jpg
END:VEVENT
END:VCALENDAR